Package: ISAnalytics Version: 1.19.3 Command: /home/biocbuild/R/R/bin/R CMD INSTALL ISAnalytics StartedAt: 2025-10-23 20:26:25 -0000 (Thu, 23 Oct 2025) EndedAt: 2025-10-23 20:26:58 -0000 (Thu, 23 Oct 2025) EllapsedTime: 33.0 seconds RetCode: 0 Status: OK