Package: ISAnalytics Version: 1.19.3 Command: /home/biocbuild/R/R/bin/R CMD build --keep-empty-dirs --no-resave-data ISAnalytics StartedAt: 2025-10-21 00:39:54 -0000 (Tue, 21 Oct 2025) EndedAt: 2025-10-21 00:43:36 -0000 (Tue, 21 Oct 2025) EllapsedTime: 222.1 seconds RetCode: 0 Status: OK PackageFile: ISAnalytics_1.19.3.tar.gz PackageFileSize: 8.514 MiB