Package: ISAnalytics Version: 1.17.1 Command: /home/biocbuild/bbs-3.21-bioc/R/bin/R CMD INSTALL ISAnalytics StartedAt: 2025-02-03 15:18:28 -0500 (Mon, 03 Feb 2025) EndedAt: 2025-02-03 15:18:45 -0500 (Mon, 03 Feb 2025) EllapsedTime: 16.7 seconds RetCode: 0 Status: OK