Package: ISAnalytics Version: 1.17.1 Command: /home/biocbuild/bbs-3.21-bioc/R/bin/R CMD build --keep-empty-dirs --no-resave-data ISAnalytics StartedAt: 2025-02-03 17:55:23 -0500 (Mon, 03 Feb 2025) EndedAt: 2025-02-03 17:57:39 -0500 (Mon, 03 Feb 2025) EllapsedTime: 136.1 seconds RetCode: 0 Status: OK PackageFile: ISAnalytics_1.17.1.tar.gz PackageFileSize: 4.378 MiB