Package: ISAnalytics Version: 1.17.1 Command: /Library/Frameworks/R.framework/Resources/bin/R CMD build --keep-empty-dirs --no-resave-data ISAnalytics StartedAt: 2025-02-03 17:12:03 -0500 (Mon, 03 Feb 2025) EndedAt: 2025-02-03 17:14:42 -0500 (Mon, 03 Feb 2025) EllapsedTime: 158.9 seconds RetCode: 0 Status: OK PackageFile: ISAnalytics_1.17.1.tar.gz PackageFileSize: 4.443 MiB