Package: ISAnalytics Version: 1.17.1 Command: /home/biocbuild/R/R/bin/R CMD INSTALL ISAnalytics StartedAt: 2025-01-29 20:06:15 -0000 (Wed, 29 Jan 2025) EndedAt: 2025-01-29 20:06:39 -0000 (Wed, 29 Jan 2025) EllapsedTime: 24.6 seconds RetCode: 0 Status: OK