Package: ISAnalytics Version: 1.17.1 Command: /Library/Frameworks/R.framework/Resources/bin/R CMD INSTALL ISAnalytics StartedAt: 2025-02-03 15:50:26 -0500 (Mon, 03 Feb 2025) EndedAt: 2025-02-03 15:50:35 -0500 (Mon, 03 Feb 2025) EllapsedTime: 8.8 seconds RetCode: 0 Status: OK