Package: ISAnalytics Version: 1.17.1 Command: /Library/Frameworks/R.framework/Resources/bin/R CMD check --install=check:ISAnalytics.install-out.txt --library=/Library/Frameworks/R.framework/Resources/library --no-vignettes --timings ISAnalytics_1.17.1.tar.gz StartedAt: 2025-02-03 20:23:38 -0500 (Mon, 03 Feb 2025) EndedAt: 2025-02-03 20:26:15 -0500 (Mon, 03 Feb 2025) EllapsedTime: 156.9 seconds RetCode: 0 Status: OK CheckDir: ISAnalytics.Rcheck Warnings: 0