Package: IRanges Version: 2.41.2 Command: /Library/Frameworks/R.framework/Resources/bin/R CMD check --install=check:IRanges.install-out.txt --library=/Library/Frameworks/R.framework/Resources/library --no-vignettes --timings IRanges_2.41.2.tar.gz StartedAt: 2025-01-10 19:52:58 -0500 (Fri, 10 Jan 2025) EndedAt: 2025-01-10 19:53:57 -0500 (Fri, 10 Jan 2025) EllapsedTime: 59.7 seconds RetCode: 0 Status: WARNINGS CheckDir: IRanges.Rcheck Warnings: 5