Package: IPO Version: 1.35.0 Command: /home/biocbuild/R/R/bin/R CMD build --keep-empty-dirs --no-resave-data IPO StartedAt: 2025-09-30 00:47:49 -0000 (Tue, 30 Sep 2025) EndedAt: 2025-09-30 01:08:30 -0000 (Tue, 30 Sep 2025) EllapsedTime: 1240.6 seconds RetCode: 0 Status: OK PackageFile: IPO_1.35.0.tar.gz PackageFileSize: 548.5 KiB