Package: IPO Version: 1.35.0 Command: chmod a+r IPO -R && F:\biocbuild\bbs-3.22-bioc\R\bin\R.exe CMD build --keep-empty-dirs --no-resave-data IPO StartedAt: 2025-08-14 20:59:04 -0400 (Thu, 14 Aug 2025) EndedAt: 2025-08-14 21:36:11 -0400 (Thu, 14 Aug 2025) EllapsedTime: 2227.0 seconds RetCode: 0 Status: OK PackageFile: IPO_1.35.0.tar.gz PackageFileSize: 536.3 KiB