Package: IPO Version: 1.35.0 Maintainer: Thomas Lieb MaintainerEmail: thomas.r.lieb at gmail.com git_url: https://git.bioconductor.org/packages/IPO git_branch: devel git_last_commit: cb37025 git_last_commit_date: 2025-04-15 11:04:15 -0400 (Tue, 15 Apr 2025)