Package: IONiseR Version: 2.31.0 Command: E:\biocbuild\bbs-3.21-bioc\R\bin\R.exe CMD check --no-multiarch --install=check:IONiseR.install-out.txt --library=E:\biocbuild\bbs-3.21-bioc\R\library --no-vignettes --timings IONiseR_2.31.0.tar.gz StartedAt: 2025-02-04 02:39:37 -0500 (Tue, 04 Feb 2025) EndedAt: 2025-02-04 02:44:39 -0500 (Tue, 04 Feb 2025) EllapsedTime: 302.1 seconds RetCode: 0 Status: OK CheckDir: IONiseR.Rcheck Warnings: 0