Package: IONiseR Version: 2.33.0 Command: /home/biocbuild/bbs-3.22-bioc/R/bin/R CMD INSTALL IONiseR StartedAt: 2025-10-08 16:08:15 -0400 (Wed, 08 Oct 2025) EndedAt: 2025-10-08 16:09:00 -0400 (Wed, 08 Oct 2025) EllapsedTime: 44.8 seconds RetCode: 0 Status: OK