Package: IONiseR Version: 2.33.0 Command: /home/biocbuild/bbs-3.22-bioc/R/bin/R CMD build --keep-empty-dirs --no-resave-data --md5 IONiseR StartedAt: 2025-10-08 18:39:37 -0400 (Wed, 08 Oct 2025) EndedAt: 2025-10-08 18:41:23 -0400 (Wed, 08 Oct 2025) EllapsedTime: 106.2 seconds RetCode: 0 Status: OK PackageFile: IONiseR_2.33.0.tar.gz PackageFileSize: 4.585 MiB