Package: IONiseR Version: 2.31.0 Command: /home/biocbuild/bbs-3.21-bioc/R/bin/R CMD check --install=check:IONiseR.install-out.txt --library=/home/biocbuild/bbs-3.21-bioc/R/site-library --timings IONiseR_2.31.0.tar.gz StartedAt: 2025-02-03 23:32:52 -0500 (Mon, 03 Feb 2025) EndedAt: 2025-02-03 23:38:14 -0500 (Mon, 03 Feb 2025) EllapsedTime: 321.4 seconds RetCode: 0 Status: OK CheckDir: IONiseR.Rcheck Warnings: 0