Package: IONiseR Version: 2.31.0 Command: /home/biocbuild/bbs-3.21-bioc/R/bin/R CMD build --keep-empty-dirs --no-resave-data IONiseR StartedAt: 2025-02-03 17:55:00 -0500 (Mon, 03 Feb 2025) EndedAt: 2025-02-03 17:56:42 -0500 (Mon, 03 Feb 2025) EllapsedTime: 102.1 seconds RetCode: 0 Status: OK PackageFile: IONiseR_2.31.0.tar.gz PackageFileSize: 4.583 MiB