Package: IONiseR Version: 2.31.0 Command: /home/biocbuild/R/R/bin/R CMD INSTALL IONiseR StartedAt: 2025-01-29 20:01:14 -0000 (Wed, 29 Jan 2025) EndedAt: 2025-01-29 20:02:00 -0000 (Wed, 29 Jan 2025) EllapsedTime: 46.0 seconds RetCode: 0 Status: OK