Package: INTACT Version: 1.7.0 Command: /home/biocbuild/bbs-3.21-bioc/R/bin/R CMD check --install=check:INTACT.install-out.txt --library=/home/biocbuild/bbs-3.21-bioc/R/site-library --timings INTACT_1.7.0.tar.gz StartedAt: 2025-02-16 23:07:01 -0500 (Sun, 16 Feb 2025) EndedAt: 2025-02-16 23:07:43 -0500 (Sun, 16 Feb 2025) EllapsedTime: 42.0 seconds RetCode: 0 Status: OK CheckDir: INTACT.Rcheck Warnings: 0