Package: INSPEcT Version: 1.39.1 Command: rm -rf INSPEcT.buildbin-libdir && mkdir INSPEcT.buildbin-libdir && F:\biocbuild\bbs-3.22-bioc\R\bin\R.exe CMD INSTALL --build --library=INSPEcT.buildbin-libdir INSPEcT_1.39.1.tar.gz StartedAt: 2025-08-15 10:30:45 -0400 (Fri, 15 Aug 2025) EndedAt: 2025-08-15 10:33:35 -0400 (Fri, 15 Aug 2025) EllapsedTime: 170.1 seconds RetCode: 0 Status: OK PackageFile: INSPEcT_1.39.1.zip PackageFileSize: 7.962 MiB