Package: INPower Version: 1.45.0 Command: rm -rf INPower.buildbin-libdir && mkdir INPower.buildbin-libdir && F:\biocbuild\bbs-3.22-bioc\R\bin\R.exe CMD INSTALL --build --library=INPower.buildbin-libdir INPower_1.45.0.tar.gz StartedAt: 2025-08-15 10:30:43 -0400 (Fri, 15 Aug 2025) EndedAt: 2025-08-15 10:30:55 -0400 (Fri, 15 Aug 2025) EllapsedTime: 12.1 seconds RetCode: 0 Status: OK PackageFile: INPower_1.45.0.zip PackageFileSize: 86.83 KiB