Package: INPower Version: 1.43.0 Command: /Library/Frameworks/R.framework/Resources/bin/R CMD check --install=check:INPower.install-out.txt --library=/Library/Frameworks/R.framework/Resources/library --no-vignettes --timings INPower_1.43.0.tar.gz StartedAt: 2025-02-19 19:49:50 -0500 (Wed, 19 Feb 2025) EndedAt: 2025-02-19 19:50:00 -0500 (Wed, 19 Feb 2025) EllapsedTime: 10.1 seconds RetCode: 0 Status: OK CheckDir: INPower.Rcheck Warnings: 0