Package: INDEED Version: 2.23.0 Command: chmod a+r INDEED -R && F:\biocbuild\bbs-3.22-bioc\R\bin\R.exe CMD build --keep-empty-dirs --no-resave-data INDEED StartedAt: 2025-08-14 20:56:25 -0400 (Thu, 14 Aug 2025) EndedAt: 2025-08-14 20:56:44 -0400 (Thu, 14 Aug 2025) EllapsedTime: 19.0 seconds RetCode: 0 Status: OK PackageFile: INDEED_2.23.0.tar.gz PackageFileSize: 1.857 MiB