Package: IMPCdata Version: 1.45.0 Command: rm -rf IMPCdata.buildbin-libdir && mkdir IMPCdata.buildbin-libdir && F:\biocbuild\bbs-3.22-bioc\R\bin\R.exe CMD INSTALL --build --library=IMPCdata.buildbin-libdir IMPCdata_1.45.0.tar.gz StartedAt: 2025-08-15 10:30:21 -0400 (Fri, 15 Aug 2025) EndedAt: 2025-08-15 10:30:50 -0400 (Fri, 15 Aug 2025) EllapsedTime: 29.0 seconds RetCode: 0 Status: OK PackageFile: IMPCdata_1.45.0.zip PackageFileSize: 160.2 KiB