Package: IMPCdata Version: 1.43.0 Command: rm -rf IMPCdata.buildbin-libdir && mkdir IMPCdata.buildbin-libdir && /Users/biocbuild/BBS/utils/build-universal.sh IMPCdata_1.43.0.tar.gz /Library/Frameworks/R.framework/Resources/bin/R IMPCdata.buildbin-libdir StartedAt: 2025-02-03 00:28:15 -0500 (Mon, 03 Feb 2025) EndedAt: 2025-02-03 00:28:22 -0500 (Mon, 03 Feb 2025) EllapsedTime: 6.9 seconds RetCode: 0 Status: OK PackageFile: IMPCdata_1.43.0.tgz PackageFileSize: 158.1 KiB