Package: IMMAN Version: 1.27.0 Command: rm -rf IMMAN.buildbin-libdir && mkdir IMMAN.buildbin-libdir && E:\biocbuild\bbs-3.21-bioc\R\bin\R.exe CMD INSTALL --build --library=IMMAN.buildbin-libdir IMMAN_1.27.0.tar.gz StartedAt: 2025-02-06 08:15:45 -0500 (Thu, 06 Feb 2025) EndedAt: 2025-02-06 08:16:10 -0500 (Thu, 06 Feb 2025) EllapsedTime: 24.5 seconds RetCode: 0 Status: OK PackageFile: IMMAN_1.27.0.zip PackageFileSize: 64.58 KiB