Package: IMMAN Version: 1.29.0 Command: /home/biocbuild/bbs-3.22-bioc/R/bin/R CMD INSTALL IMMAN StartedAt: 2025-10-03 15:49:59 -0400 (Fri, 03 Oct 2025) EndedAt: 2025-10-03 15:50:11 -0400 (Fri, 03 Oct 2025) EllapsedTime: 12.0 seconds RetCode: 0 Status: OK