Package: IMMAN Version: 1.27.0 Command: /home/biocbuild/bbs-3.21-bioc/R/bin/R CMD INSTALL IMMAN StartedAt: 2025-02-05 15:49:24 -0500 (Wed, 05 Feb 2025) EndedAt: 2025-02-05 15:49:37 -0500 (Wed, 05 Feb 2025) EllapsedTime: 12.6 seconds RetCode: 0 Status: OK