Package: IMMAN Version: 1.27.0 Command: /home/biocbuild/bbs-3.21-bioc/R/bin/R CMD check --install=check:IMMAN.install-out.txt --library=/home/biocbuild/bbs-3.21-bioc/R/site-library --timings IMMAN_1.27.0.tar.gz StartedAt: 2025-02-05 23:21:02 -0500 (Wed, 05 Feb 2025) EndedAt: 2025-02-05 23:31:12 -0500 (Wed, 05 Feb 2025) EllapsedTime: 609.7 seconds RetCode: 0 Status: OK CheckDir: IMMAN.Rcheck Warnings: 0