Package: IMMAN Version: 1.27.0 Command: /home/biocbuild/bbs-3.21-bioc/R/bin/R CMD build --keep-empty-dirs --no-resave-data IMMAN StartedAt: 2025-02-10 17:52:16 -0500 (Mon, 10 Feb 2025) EndedAt: 2025-02-10 17:55:18 -0500 (Mon, 10 Feb 2025) EllapsedTime: 181.3 seconds RetCode: 0 Status: OK PackageFile: IMMAN_1.27.0.tar.gz PackageFileSize: 44.67 KiB