Package: IMMAN Version: 1.27.0 Command: /Library/Frameworks/R.framework/Resources/bin/R CMD check --install=check:IMMAN.install-out.txt --library=/Library/Frameworks/R.framework/Resources/library --no-vignettes --timings IMMAN_1.27.0.tar.gz StartedAt: 2025-02-04 21:08:20 -0500 (Tue, 04 Feb 2025) EndedAt: 2025-02-04 21:15:30 -0500 (Tue, 04 Feb 2025) EllapsedTime: 430.2 seconds RetCode: 0 Status: OK CheckDir: IMMAN.Rcheck Warnings: 0