Package: IMMAN Version: 1.27.0 Command: /home/biocbuild/R/R/bin/R CMD INSTALL IMMAN StartedAt: 2025-01-29 19:44:31 -0000 (Wed, 29 Jan 2025) EndedAt: 2025-01-29 19:44:50 -0000 (Wed, 29 Jan 2025) EllapsedTime: 18.8 seconds RetCode: 0 Status: OK