Package: IMMAN Version: 1.27.0 Command: rm -rf IMMAN.buildbin-libdir && mkdir IMMAN.buildbin-libdir && /Users/biocbuild/BBS/utils/build-universal.sh IMMAN_1.27.0.tar.gz /Library/Frameworks/R.framework/Resources/bin/R IMMAN.buildbin-libdir StartedAt: 2025-02-04 22:19:46 -0500 (Tue, 04 Feb 2025) EndedAt: 2025-02-04 22:19:52 -0500 (Tue, 04 Feb 2025) EllapsedTime: 6.1 seconds RetCode: 0 Status: OK PackageFile: IMMAN_1.27.0.tgz PackageFileSize: 79.17 KiB