Package: IMAS Version: 1.33.0 Command: /Library/Frameworks/R.framework/Resources/bin/R CMD INSTALL IMAS StartedAt: 2025-05-27 15:22:58 -0400 (Tue, 27 May 2025) EndedAt: 2025-05-27 15:23:14 -0400 (Tue, 27 May 2025) EllapsedTime: 16.4 seconds RetCode: 0 Status: OK