Package: ILoReg Version: 1.19.0 Command: /home/biocbuild/bbs-3.22-bioc/R/bin/R CMD INSTALL ILoReg StartedAt: 2025-10-17 15:20:29 -0400 (Fri, 17 Oct 2025) EndedAt: 2025-10-17 15:21:00 -0400 (Fri, 17 Oct 2025) EllapsedTime: 30.9 seconds RetCode: 0 Status: OK