Package: IHW Version: 1.35.0 Command: /home/biocbuild/bbs-3.21-bioc/R/bin/R CMD INSTALL IHW StartedAt: 2025-04-14 15:13:34 -0400 (Mon, 14 Apr 2025) EndedAt: 2025-04-14 15:13:38 -0400 (Mon, 14 Apr 2025) EllapsedTime: 3.4 seconds RetCode: 0 Status: OK