Package: IHW Version: 1.35.0 Command: /home/biocbuild/bbs-3.21-bioc/R/bin/R CMD build --keep-empty-dirs --no-resave-data IHW StartedAt: 2025-02-05 17:43:21 -0500 (Wed, 05 Feb 2025) EndedAt: 2025-02-05 17:45:25 -0500 (Wed, 05 Feb 2025) EllapsedTime: 124.2 seconds RetCode: 0 Status: OK PackageFile: IHW_1.35.0.tar.gz PackageFileSize: 4.052 MiB