Package: IHW Version: 1.35.0 Command: /Library/Frameworks/R.framework/Resources/bin/R CMD build --keep-empty-dirs --no-resave-data IHW StartedAt: 2025-02-02 17:01:03 -0500 (Sun, 02 Feb 2025) EndedAt: 2025-02-02 17:03:50 -0500 (Sun, 02 Feb 2025) EllapsedTime: 166.7 seconds RetCode: 0 Status: OK PackageFile: IHW_1.35.0.tar.gz PackageFileSize: 4.592 MiB