Package: IHW Version: 1.35.0 Command: rm -rf IHW.buildbin-libdir && mkdir IHW.buildbin-libdir && /Users/biocbuild/BBS/utils/build-universal.sh IHW_1.35.0.tar.gz /Library/Frameworks/R.framework/Resources/bin/R IHW.buildbin-libdir StartedAt: 2025-02-03 00:28:08 -0500 (Mon, 03 Feb 2025) EndedAt: 2025-02-03 00:28:20 -0500 (Mon, 03 Feb 2025) EllapsedTime: 11.4 seconds RetCode: 0 Status: OK PackageFile: IHW_1.35.0.tgz PackageFileSize: 4.787 MiB