Package: IHW Version: 1.36.0 Command: /home/biocbuild/R/R/bin/R CMD INSTALL IHW StartedAt: 2025-04-15 21:59:58 -0000 (Tue, 15 Apr 2025) EndedAt: 2025-04-15 22:00:03 -0000 (Tue, 15 Apr 2025) EllapsedTime: 4.6 seconds RetCode: 0 Status: OK