Package: IFAA Version: 1.11.0 Command: chmod a+r IFAA -R && F:\biocbuild\bbs-3.22-bioc\R\bin\R.exe CMD build --keep-empty-dirs --no-resave-data IFAA StartedAt: 2025-08-14 20:53:04 -0400 (Thu, 14 Aug 2025) EndedAt: 2025-08-14 20:55:01 -0400 (Thu, 14 Aug 2025) EllapsedTime: 117.0 seconds RetCode: 0 Status: OK PackageFile: IFAA_1.11.0.tar.gz PackageFileSize: 298.7 KiB