Package: IFAA Version: 1.11.0 Command: /home/biocbuild/bbs-3.22-bioc/R/bin/R CMD INSTALL IFAA StartedAt: 2025-10-19 15:33:22 -0400 (Sun, 19 Oct 2025) EndedAt: 2025-10-19 15:33:48 -0400 (Sun, 19 Oct 2025) EllapsedTime: 26.6 seconds RetCode: 0 Status: OK