Package: IFAA Version: 1.11.0 Command: /home/biocbuild/bbs-3.22-bioc/R/bin/R CMD build --keep-empty-dirs --no-resave-data --md5 IFAA StartedAt: 2025-10-19 18:11:22 -0400 (Sun, 19 Oct 2025) EndedAt: 2025-10-19 18:13:47 -0400 (Sun, 19 Oct 2025) EllapsedTime: 145.1 seconds RetCode: 0 Status: OK PackageFile: IFAA_1.11.0.tar.gz PackageFileSize: 299.2 KiB