Package: HybridMTest Version: 1.53.0 Command: chmod a+r HybridMTest -R && F:\biocbuild\bbs-3.22-bioc\R\bin\R.exe CMD build --keep-empty-dirs --no-resave-data HybridMTest StartedAt: 2025-08-14 20:50:52 -0400 (Thu, 14 Aug 2025) EndedAt: 2025-08-14 20:51:08 -0400 (Thu, 14 Aug 2025) EllapsedTime: 16.0 seconds RetCode: 0 Status: OK PackageFile: HybridMTest_1.53.0.tar.gz PackageFileSize: 172.3 KiB