Package: HybridMTest Version: 1.51.0 Command: chmod a+r HybridMTest -R && E:\biocbuild\bbs-3.21-bioc\R\bin\R.exe CMD build --keep-empty-dirs --no-resave-data HybridMTest StartedAt: 2025-02-03 19:29:42 -0500 (Mon, 03 Feb 2025) EndedAt: 2025-02-03 19:30:04 -0500 (Mon, 03 Feb 2025) EllapsedTime: 21.6 seconds RetCode: 0 Status: OK PackageFile: HybridMTest_1.51.0.tar.gz PackageFileSize: 172.2 KiB