Package: HybridMTest Version: 1.51.0 Command: rm -rf HybridMTest.buildbin-libdir && mkdir HybridMTest.buildbin-libdir && E:\biocbuild\bbs-3.21-bioc\R\bin\R.exe CMD INSTALL --build --library=HybridMTest.buildbin-libdir HybridMTest_1.51.0.tar.gz StartedAt: 2025-02-04 08:09:55 -0500 (Tue, 04 Feb 2025) EndedAt: 2025-02-04 08:10:20 -0500 (Tue, 04 Feb 2025) EllapsedTime: 25.0 seconds RetCode: 0 Status: OK PackageFile: HybridMTest_1.51.0.zip PackageFileSize: 239.2 KiB