Package: HybridMTest Version: 1.53.0 Command: /home/biocbuild/bbs-3.22-bioc/R/bin/R CMD INSTALL HybridMTest StartedAt: 2025-10-08 15:24:29 -0400 (Wed, 08 Oct 2025) EndedAt: 2025-10-08 15:24:35 -0400 (Wed, 08 Oct 2025) EllapsedTime: 5.8 seconds RetCode: 0 Status: OK