Package: HybridMTest Version: 1.51.0 Command: /Library/Frameworks/R.framework/Resources/bin/R CMD check --install=check:HybridMTest.install-out.txt --library=/Library/Frameworks/R.framework/Resources/library --no-vignettes --timings HybridMTest_1.51.0.tar.gz StartedAt: 2025-02-03 21:07:36 -0500 (Mon, 03 Feb 2025) EndedAt: 2025-02-03 21:08:19 -0500 (Mon, 03 Feb 2025) EllapsedTime: 42.3 seconds RetCode: 0 Status: OK CheckDir: HybridMTest.Rcheck Warnings: 0