Package: HybridMTest Version: 1.53.0 Command: /Library/Frameworks/R.framework/Resources/bin/R CMD build --keep-empty-dirs --no-resave-data HybridMTest StartedAt: 2025-04-30 17:06:42 -0400 (Wed, 30 Apr 2025) EndedAt: 2025-04-30 17:06:58 -0400 (Wed, 30 Apr 2025) EllapsedTime: 16.1 seconds RetCode: 0 Status: OK PackageFile: HybridMTest_1.53.0.tar.gz PackageFileSize: 172 KiB