Package: HybridMTest Version: 1.51.0 Command: /home/biocbuild/R/R/bin/R CMD check --install=check:HybridMTest.install-out.txt --library=/home/biocbuild/R/R/site-library --no-vignettes --timings HybridMTest_1.51.0.tar.gz StartedAt: 2025-01-28 11:34:05 -0000 (Tue, 28 Jan 2025) EndedAt: 2025-01-28 11:34:42 -0000 (Tue, 28 Jan 2025) EllapsedTime: 37.0 seconds RetCode: 0 Status: OK CheckDir: HybridMTest.Rcheck Warnings: 0